BEGIN:VCALENDAR
VERSION:2.0
PRODID:-//Blue &amp; Gray Hospital Association - ECPv6.15.20//NONSGML v1.0//EN
CALSCALE:GREGORIAN
METHOD:PUBLISH
X-WR-CALNAME:Blue &amp; Gray Hospital Association
X-ORIGINAL-URL:https://bluegrayhospitalassoc.com
X-WR-CALDESC:Events for Blue &amp; Gray Hospital Association
REFRESH-INTERVAL;VALUE=DURATION:PT1H
X-Robots-Tag:noindex
X-PUBLISHED-TTL:PT1H
BEGIN:VTIMEZONE
TZID:America/New_York
BEGIN:DAYLIGHT
TZOFFSETFROM:-0500
TZOFFSETTO:-0400
TZNAME:EDT
DTSTART:20240310T070000
END:DAYLIGHT
BEGIN:STANDARD
TZOFFSETFROM:-0400
TZOFFSETTO:-0500
TZNAME:EST
DTSTART:20241103T060000
END:STANDARD
BEGIN:DAYLIGHT
TZOFFSETFROM:-0500
TZOFFSETTO:-0400
TZNAME:EDT
DTSTART:20250309T070000
END:DAYLIGHT
BEGIN:STANDARD
TZOFFSETFROM:-0400
TZOFFSETTO:-0500
TZNAME:EST
DTSTART:20251102T060000
END:STANDARD
BEGIN:DAYLIGHT
TZOFFSETFROM:-0500
TZOFFSETTO:-0400
TZNAME:EDT
DTSTART:20260308T070000
END:DAYLIGHT
BEGIN:STANDARD
TZOFFSETFROM:-0400
TZOFFSETTO:-0500
TZNAME:EST
DTSTART:20261101T060000
END:STANDARD
END:VTIMEZONE
BEGIN:VEVENT
DTSTART;TZID=America/New_York:20250607T090000
DTEND;TZID=America/New_York:20250608T160000
DTSTAMP:20260425T165902
CREATED:20250204T005843Z
LAST-MODIFIED:20250204T005843Z
UID:2616-1749286800-1749398400@bluegrayhospitalassoc.com
SUMMARY:George Spangler Farm Living History Weekend
DESCRIPTION:(High Priority Event) \nTime:\nImpression:
URL:https://bluegrayhospitalassoc.com/event/george-spangler-farm-living-history-weekend/
LOCATION:George Spangler Farm\, 488 Blacksmith Shop Rd\, Gettysburg\, PA\, 17325\, United States
END:VEVENT
END:VCALENDAR